BEGIN:VCALENDAR
VERSION:2.0
PRODID:-//Zoroastrian Association of Metropolitan Washington Inc. - ECPv6.15.15//NONSGML v1.0//EN
CALSCALE:GREGORIAN
METHOD:PUBLISH
X-WR-CALNAME:Zoroastrian Association of Metropolitan Washington Inc.
X-ORIGINAL-URL:https://zamwi.org
X-WR-CALDESC:Events for Zoroastrian Association of Metropolitan Washington Inc.
REFRESH-INTERVAL;VALUE=DURATION:PT1H
X-Robots-Tag:noindex
X-PUBLISHED-TTL:PT1H
BEGIN:VTIMEZONE
TZID:America/New_York
BEGIN:DAYLIGHT
TZOFFSETFROM:-0500
TZOFFSETTO:-0400
TZNAME:EDT
DTSTART:20240310T070000
END:DAYLIGHT
BEGIN:STANDARD
TZOFFSETFROM:-0400
TZOFFSETTO:-0500
TZNAME:EST
DTSTART:20241103T060000
END:STANDARD
BEGIN:DAYLIGHT
TZOFFSETFROM:-0500
TZOFFSETTO:-0400
TZNAME:EDT
DTSTART:20250309T070000
END:DAYLIGHT
BEGIN:STANDARD
TZOFFSETFROM:-0400
TZOFFSETTO:-0500
TZNAME:EST
DTSTART:20251102T060000
END:STANDARD
BEGIN:DAYLIGHT
TZOFFSETFROM:-0500
TZOFFSETTO:-0400
TZNAME:EDT
DTSTART:20260308T070000
END:DAYLIGHT
BEGIN:STANDARD
TZOFFSETFROM:-0400
TZOFFSETTO:-0500
TZNAME:EST
DTSTART:20261101T060000
END:STANDARD
BEGIN:DAYLIGHT
TZOFFSETFROM:-0500
TZOFFSETTO:-0400
TZNAME:EDT
DTSTART:20270314T070000
END:DAYLIGHT
BEGIN:STANDARD
TZOFFSETFROM:-0400
TZOFFSETTO:-0500
TZNAME:EST
DTSTART:20271107T060000
END:STANDARD
END:VTIMEZONE
BEGIN:VEVENT
DTSTART;TZID=America/New_York:20260328T180000
DTEND;TZID=America/New_York:20260328T230000
DTSTAMP:20260423T182049
CREATED:20260227T022323Z
LAST-MODIFIED:20260227T022323Z
UID:4479-1774720800-1774738800@zamwi.org
SUMMARY:Nowruz 3764
DESCRIPTION:  \n\n\n\n\n	\nFill out my online form.\n\n  Fill out my Wufoo form!
URL:https://zamwi.org/event/nowruz-3764/
LOCATION:Kamran Dar-e Mehr\, 15316 Barnesville Rd\, Boyds\, MD 20841\, Boyds\, MD\, 20841\, United States
CATEGORIES:Celebration
END:VEVENT
BEGIN:VEVENT
DTSTART;TZID=America/New_York:20260315T110000
DTEND;TZID=America/New_York:20260315T150000
DTSTAMP:20260423T182049
CREATED:20260307T150300Z
LAST-MODIFIED:20260307T150300Z
UID:4486-1773572400-1773586800@zamwi.org
SUMMARY:Gahanbar Panjeh
DESCRIPTION:  \n \n\n\n\n\n	\nFill out my online form.\n\n  Fill out my Wufoo form!
URL:https://zamwi.org/event/gahanbar-panjeh/
LOCATION:Kamran Dar-e Mehr\, 15316 Barnesville Rd\, Boyds\, MD 20841\, Boyds\, MD\, 20841\, United States
CATEGORIES:Celebration
END:VEVENT
BEGIN:VEVENT
DTSTART;TZID=America/New_York:20260308T104500
DTEND;TZID=America/New_York:20260308T120000
DTSTAMP:20260423T182049
CREATED:20250928T051627Z
LAST-MODIFIED:20250928T053428Z
UID:4391-1772966700-1772971200@zamwi.org
SUMMARY:Avesta Class
DESCRIPTION:
URL:https://zamwi.org/event/avesta-class-10/
LOCATION:MD
END:VEVENT
BEGIN:VEVENT
DTSTART;TZID=America/New_York:20260222T104500
DTEND;TZID=America/New_York:20260222T120000
DTSTAMP:20260423T182049
CREATED:20250928T051537Z
LAST-MODIFIED:20250928T053428Z
UID:4389-1771757100-1771761600@zamwi.org
SUMMARY:Avesta Class
DESCRIPTION:
URL:https://zamwi.org/event/avesta-class-9/
LOCATION:MD
END:VEVENT
BEGIN:VEVENT
DTSTART;TZID=America/New_York:20260208T104500
DTEND;TZID=America/New_York:20260208T120000
DTSTAMP:20260423T182049
CREATED:20250928T051447Z
LAST-MODIFIED:20250928T053428Z
UID:4387-1770547500-1770552000@zamwi.org
SUMMARY:Avesta Class
DESCRIPTION:
URL:https://zamwi.org/event/avesta-class-8/
LOCATION:MD
END:VEVENT
BEGIN:VEVENT
DTSTART;TZID=America/New_York:20260201T150000
DTEND;TZID=America/New_York:20260201T180000
DTSTAMP:20260423T182049
CREATED:20260119T024645Z
LAST-MODIFIED:20260128T181926Z
UID:4467-1769958000-1769968800@zamwi.org
SUMMARY:Sadeh 2026
DESCRIPTION:******This event has been canceled due to unforeseen circumstances ******* \n  \n  \n \n\n\n\n\n	\nFill out my online form.\n\n  Fill out my Wufoo form! \n\n\n\n\n\n\n\n\n\n\n\n\n\n\nWhat is Sadeh?\nThe Sadeh celebration is an ancient festival respected and observed by Zoroastrians\, marking the discovery of fire and the triumph of light over darkness. Held 50 days before Nowruz (the Persian New Year)\, it traditionally falls in late January or early February. The festival involves lighting large bonfires\, symbolizing warmth and life.\n\n\n.\n– Weather conditions –\n\nPlease keep in mind\, in the event of adverse weather such as freezing rain\, which may compromise the safety of the participants\, we may regrettably need to cancel or postpone the ceremony.\nPlease follow our community website event calendar.\n\n\n\n\n\n\n\n\n\n\n\n\n\n\n\n\n\n____________________________________________\nجشن سده\nگرامیداشت جشنی باستانی با نور و گرما در شبی زمستانی.\nشنبه ۳۱  ژانویه ، ۲۰۲۶\n۶:۰۰ پسین – ۱۰:۰۰ پسین\nبا ثبت‌نام خود، به ما در برنامه‌ریزی بهتر برای مراسم کمک می‌کنید.محل برگزاری:\nKamran Dar-e Mehr\n15316 Barnesville Rd\,\nBoyds\, MD 20841\nسده چیست؟\nجشن سده یک جشن باستانی است که بطور سنتی توسط زرتشتیان جشن گرفته شده و کشف آتش و پیروزی نور بر تاریکی را گرامی می‌دارد. این جشن ۵۰ روز پیش از نوروز برگزار می‌شود و به طور سنتی در اواخر ژانویه یا اوایل فوریه برگزار می شود. این جشن شامل روشن کردن آتش‌های بزرگ است که نمادی از گرما و زندگی است.\n\n– شرایط آب و هوایی – \n\n\nلطفا به خاطر داشته باشید، در صورت بروز آب و هوای نامساعد مانند باران یخی که ممکن است ایمنی شرکت کنندگان را به خطر بیندازد، متاسفانه ممکن است نیاز به لغو یا به تعویق انداختن مراسم داشته باشیم.\nلطفا ما را از روی تقویم رویداد  در وب سایت دنبال بفرمایید.
URL:https://zamwi.org/event/sadeh-2026/
LOCATION:MD
END:VEVENT
BEGIN:VEVENT
DTSTART;TZID=America/New_York:20260125T104500
DTEND;TZID=America/New_York:20260125T120000
DTSTAMP:20260423T182049
CREATED:20250928T051406Z
LAST-MODIFIED:20250928T053428Z
UID:4385-1769337900-1769342400@zamwi.org
SUMMARY:Avesta Class
DESCRIPTION:
URL:https://zamwi.org/event/avesta-class-7/
LOCATION:MD
END:VEVENT
BEGIN:VEVENT
DTSTART;TZID=America/New_York:20260111T104500
DTEND;TZID=America/New_York:20260111T120000
DTSTAMP:20260423T182049
CREATED:20250928T051323Z
LAST-MODIFIED:20250928T053428Z
UID:4383-1768128300-1768132800@zamwi.org
SUMMARY:Avesta Class
DESCRIPTION:
URL:https://zamwi.org/event/avesta-class-6/
LOCATION:MD
END:VEVENT
BEGIN:VEVENT
DTSTART;TZID=America/New_York:20251227T130000
DTEND;TZID=America/New_York:20251227T140000
DTSTAMP:20260423T182049
CREATED:20251215T034059Z
LAST-MODIFIED:20251226T010031Z
UID:4444-1766840400-1766844000@zamwi.org
SUMMARY:Asho Zartosht No Diso 2025
DESCRIPTION:Fill out my online form.\n\n  Fill out my Wufoo form!
URL:https://zamwi.org/event/asho-zartosht-no-diso-2025/
LOCATION:Kamran Dar-e Mehr\, 15316 Barnesville Rd\, Boyds\, MD 20841\, Boyds\, MD\, 20841\, United States
END:VEVENT
BEGIN:VEVENT
DTSTART;TZID=America/New_York:20251220T170000
DTEND;TZID=America/New_York:20251220T210000
DTSTAMP:20260423T182049
CREATED:20251119T203540Z
LAST-MODIFIED:20251120T023643Z
UID:4422-1766250000-1766264400@zamwi.org
SUMMARY:Shab-e Chelleh 2025
DESCRIPTION:  \n \n\n\n\n\n	\nFill out my online form.\n\n  Fill out my Wufoo form!
URL:https://zamwi.org/event/shab-e-chelleh-2025/
LOCATION:Kamran Dar-e Mehr\, 15316 Barnesville Rd\, Boyds\, MD 20841\, Boyds\, MD\, 20841\, United States
CATEGORIES:Celebration
END:VEVENT
BEGIN:VEVENT
DTSTART;TZID=America/New_York:20251214T104500
DTEND;TZID=America/New_York:20251214T120000
DTSTAMP:20260423T182049
CREATED:20250928T051237Z
LAST-MODIFIED:20250928T053428Z
UID:4381-1765709100-1765713600@zamwi.org
SUMMARY:Avesta Class
DESCRIPTION:
URL:https://zamwi.org/event/avesta-class-5/
LOCATION:MD
END:VEVENT
BEGIN:VEVENT
DTSTART;TZID=America/New_York:20251123T104500
DTEND;TZID=America/New_York:20251123T120000
DTSTAMP:20260423T182049
CREATED:20250928T051154Z
LAST-MODIFIED:20250928T053428Z
UID:4379-1763894700-1763899200@zamwi.org
SUMMARY:Avesta Class
DESCRIPTION:
URL:https://zamwi.org/event/avesta-class-4/
LOCATION:MD
END:VEVENT
BEGIN:VEVENT
DTSTART;TZID=America/New_York:20251109T104500
DTEND;TZID=America/New_York:20251109T120000
DTSTAMP:20260423T182049
CREATED:20250928T051113Z
LAST-MODIFIED:20250928T053428Z
UID:4377-1762685100-1762689600@zamwi.org
SUMMARY:Avesta Class
DESCRIPTION:
URL:https://zamwi.org/event/avesta-class-3/
LOCATION:MD
END:VEVENT
BEGIN:VEVENT
DTSTART;TZID=America/New_York:20251026T104500
DTEND;TZID=America/New_York:20251026T120000
DTSTAMP:20260423T182049
CREATED:20250928T051041Z
LAST-MODIFIED:20251021T025311Z
UID:4375-1761475500-1761480000@zamwi.org
SUMMARY:Avesta Class
DESCRIPTION:Field Trip\, Butler’s Orchard at 10:45am
URL:https://zamwi.org/event/avesta-class-2/
LOCATION:MD
END:VEVENT
BEGIN:VEVENT
DTSTART;TZID=America/New_York:20251019T090000
DTEND;TZID=America/New_York:20251019T180000
DTSTAMP:20260423T182049
CREATED:20250928T051959Z
LAST-MODIFIED:20250928T053428Z
UID:4402-1760864400-1760896800@zamwi.org
SUMMARY:Private Event
DESCRIPTION:
URL:https://zamwi.org/event/private-event/
LOCATION:MD
END:VEVENT
BEGIN:VEVENT
DTSTART;TZID=America/New_York:20251012T104500
DTEND;TZID=America/New_York:20251012T120000
DTSTAMP:20260423T182049
CREATED:20250928T050931Z
LAST-MODIFIED:20250928T053428Z
UID:4373-1760265900-1760270400@zamwi.org
SUMMARY:Avesta Class
DESCRIPTION:
URL:https://zamwi.org/event/avesta-class/
LOCATION:Kamran Dar-e Mehr\, 15316 Barnesville Rd\, Boyds\, MD 20841\, Boyds\, MD\, 20841\, United States
END:VEVENT
BEGIN:VEVENT
DTSTART;TZID=America/New_York:20251004T173000
DTEND;TZID=America/New_York:20251004T220000
DTSTAMP:20260423T182049
CREATED:20250928T050340Z
LAST-MODIFIED:20250928T053428Z
UID:4370-1759599000-1759615200@zamwi.org
SUMMARY:Mehregan 2025
DESCRIPTION:  \n  \nMehregan Philosophy \nCelebrated in early October\, Mehregan is closely tied to the autumnal equinox\, symbolizing balance in nature\, gratitude for the harvest\, and renewal of life. It has long been a time to strengthen friendships\, renew social bonds\, and celebrate unity. \nKnown as the Festival of Friendship and Gratitude\, Mehregan is one of the world’s oldest Persian traditions\, dating back thousands of years. Originating in the Elamite period and flourishing under the Achaemenid and Sassanid Empires\, it stood alongside Nowruz as one of the most important cultural and spiritual celebrations. \nRooted in Zoroastrian tradition\, Mehregan honors the values of love\, friendship\, covenant\, and affection—timeless reminders of truth\, loyalty\, and kindness in our lives and communities. \nفلسفه‌ی مهرگان \nمهرگان در اوایل ماه اکتبر جشن گرفته می‌شود و پیوند نزدیکی با اعتدال پاییزی دارد؛ نمادی از تعادل در طبیعت، سپاسگزاری از برداشت محصول و نو شدن زندگی. این جشن از دیرباز زمانی برای استحکام دوستی‌ها، تجدید پیوندهای اجتماعی و گرامی‌داشت همبستگی بوده است. \nمهرگان که به جشن دوستی و سپاسگزاری شناخته می‌شود، از کهن‌ترین آیین‌های ایرانی است که پیشینه‌ای چند هزار ساله دارد. این جشن در دوران عیلامیان شکل گرفت و در دوران هخامنشیان و ساسانیان به اوج شکوفایی رسید و در کنار نوروز یکی از مهم‌ترین آیین‌های فرهنگی و معنوی ایرانیان بود. \nمهرگان در ریشه‌ی خود با آیین زرتشتی پیوند دارد و به مهر (میترا)، نماد روشنایی، عشق، دوستی و پیمان، اختصاص یافته است—ارزش‌هایی جاودانه که همواره یادآور راستی، وفاداری و مهربانی در زندگی و جوامع ما هستند. \n\n\n\n\n	\nFill out my online form.\n\n  Fill out my Wufoo form!
URL:https://zamwi.org/event/mehregan-2025/
LOCATION:MD
END:VEVENT
BEGIN:VEVENT
DTSTART;TZID=America/New_York:20250928T123000
DTEND;TZID=America/New_York:20250928T150000
DTSTAMP:20260423T182049
CREATED:20250928T045915Z
LAST-MODIFIED:20250928T053428Z
UID:4368-1759062600-1759071600@zamwi.org
SUMMARY:AGM
DESCRIPTION:
URL:https://zamwi.org/event/agm/
LOCATION:MD
END:VEVENT
BEGIN:VEVENT
DTSTART;TZID=America/New_York:20250928T104500
DTEND;TZID=America/New_York:20250928T120000
DTSTAMP:20260423T182049
CREATED:20250928T045509Z
LAST-MODIFIED:20250928T053428Z
UID:4366-1759056300-1759060800@zamwi.org
SUMMARY:Class Avesta
DESCRIPTION:
URL:https://zamwi.org/event/class-avesta/
LOCATION:MD
END:VEVENT
END:VCALENDAR